BEGIN:VCALENDAR
VERSION:2.0
PRODID:-//PUB CRAWL MELBOURNE - ECPv4.6.26.1//NONSGML v1.0//EN
CALSCALE:GREGORIAN
METHOD:PUBLISH
X-WR-CALNAME:PUB CRAWL MELBOURNE
X-ORIGINAL-URL:https://pubcrawlmelb.com.au
X-WR-CALDESC:Events for PUB CRAWL MELBOURNE
BEGIN:VEVENT
DTSTART;TZID=Australia/Melbourne:20210226T200000
DTEND;TZID=Australia/Melbourne:20210226T200000
DTSTAMP:20210225T031152
CREATED:20181226T103103Z
LAST-MODIFIED:20181226T103103Z
UID:7455-1614369600-1614369600@pubcrawlmelb.com.au
SUMMARY:CBD PUB CRAWL
DESCRIPTION:Experience 4 of the CBD’s best bars\, lounges\, and nightclubs including a famous rooftop bar/club with amazing city views\, a hidden laneway bar\, and a premiere Melbourne mega-club featuring top DJ’s from around the world -all with free VIP entry.\nEnjoy no entry fees\, no queues\, free SHOTS and exclusive “pub crawl only” drink deals @ every bar!  \nSpace is limited so Book Now. \n \n
URL:https://pubcrawlmelb.com.au/event/cbd-pub-crawl/2021-02-26/
LOCATION:Melbourne CBD\, Melbourne\, Vic\, 3000
CATEGORIES:CBD Fridays
ATTACH;FMTTYPE=image/jpeg:https://pubcrawlmelb.com.au/wp-content/uploads/revslider/friday-event-slider/Slider4.jpg
END:VEVENT
BEGIN:VEVENT
DTSTART;TZID=Australia/Melbourne:20210227T200000
DTEND;TZID=Australia/Melbourne:20210227T200000
DTSTAMP:20210225T031152
CREATED:20181226T104008Z
LAST-MODIFIED:20181226T104008Z
UID:7476-1614456000-1614456000@pubcrawlmelb.com.au
SUMMARY:CBD PUB CRAWL
DESCRIPTION:Experience 4 of the CBD’s best bars\, lounges\, and nightclubs including a famous rooftop bar/club with amazing city views\, a hidden laneway bar\, and a premiere Melbourne mega-club featuring top DJ’s from around the world -all with free VIP entry.\nEnjoy no entry fees\, no queues\, free SHOTS and exclusive “pub crawl only” drink deals @ every bar!  \nSpace is limited so Book Now.   \n \n
URL:https://pubcrawlmelb.com.au/event/cbd-bar-crawl/2021-02-27/
LOCATION:Melbourne CBD\, Melbourne\, Vic\, 3000
CATEGORIES:CBD Saturdays
ATTACH;FMTTYPE=image/jpeg:https://pubcrawlmelb.com.au/wp-content/uploads/revslider/friday-event-slider/Slider3.jpg
END:VEVENT
BEGIN:VEVENT
DTSTART;TZID=Australia/Melbourne:20210305T200000
DTEND;TZID=Australia/Melbourne:20210305T200000
DTSTAMP:20210225T031152
CREATED:20181226T103103Z
LAST-MODIFIED:20181226T103103Z
UID:7456-1614974400-1614974400@pubcrawlmelb.com.au
SUMMARY:CBD PUB CRAWL
DESCRIPTION:Experience 4 of the CBD’s best bars\, lounges\, and nightclubs including a famous rooftop bar/club with amazing city views\, a hidden laneway bar\, and a premiere Melbourne mega-club featuring top DJ’s from around the world -all with free VIP entry.\nEnjoy no entry fees\, no queues\, free SHOTS and exclusive “pub crawl only” drink deals @ every bar!  \nSpace is limited so Book Now. \n \n
URL:https://pubcrawlmelb.com.au/event/cbd-pub-crawl/2021-03-05/
LOCATION:Melbourne CBD\, Melbourne\, Vic\, 3000
CATEGORIES:CBD Fridays
ATTACH;FMTTYPE=image/jpeg:https://pubcrawlmelb.com.au/wp-content/uploads/revslider/friday-event-slider/Slider4.jpg
END:VEVENT
BEGIN:VEVENT
DTSTART;TZID=Australia/Melbourne:20210306T200000
DTEND;TZID=Australia/Melbourne:20210306T200000
DTSTAMP:20210225T031152
CREATED:20181226T104008Z
LAST-MODIFIED:20181226T104008Z
UID:7477-1615060800-1615060800@pubcrawlmelb.com.au
SUMMARY:CBD PUB CRAWL
DESCRIPTION:Experience 4 of the CBD’s best bars\, lounges\, and nightclubs including a famous rooftop bar/club with amazing city views\, a hidden laneway bar\, and a premiere Melbourne mega-club featuring top DJ’s from around the world -all with free VIP entry.\nEnjoy no entry fees\, no queues\, free SHOTS and exclusive “pub crawl only” drink deals @ every bar!  \nSpace is limited so Book Now.   \n \n
URL:https://pubcrawlmelb.com.au/event/cbd-bar-crawl/2021-03-06/
LOCATION:Melbourne CBD\, Melbourne\, Vic\, 3000
CATEGORIES:CBD Saturdays
ATTACH;FMTTYPE=image/jpeg:https://pubcrawlmelb.com.au/wp-content/uploads/revslider/friday-event-slider/Slider3.jpg
END:VEVENT
BEGIN:VEVENT
DTSTART;TZID=Australia/Melbourne:20210312T200000
DTEND;TZID=Australia/Melbourne:20210312T200000
DTSTAMP:20210225T031152
CREATED:20181226T103103Z
LAST-MODIFIED:20181226T103103Z
UID:7457-1615579200-1615579200@pubcrawlmelb.com.au
SUMMARY:CBD PUB CRAWL
DESCRIPTION:Experience 4 of the CBD’s best bars\, lounges\, and nightclubs including a famous rooftop bar/club with amazing city views\, a hidden laneway bar\, and a premiere Melbourne mega-club featuring top DJ’s from around the world -all with free VIP entry.\nEnjoy no entry fees\, no queues\, free SHOTS and exclusive “pub crawl only” drink deals @ every bar!  \nSpace is limited so Book Now. \n \n
URL:https://pubcrawlmelb.com.au/event/cbd-pub-crawl/2021-03-12/
LOCATION:Melbourne CBD\, Melbourne\, Vic\, 3000
CATEGORIES:CBD Fridays
ATTACH;FMTTYPE=image/jpeg:https://pubcrawlmelb.com.au/wp-content/uploads/revslider/friday-event-slider/Slider4.jpg
END:VEVENT
BEGIN:VEVENT
DTSTART;TZID=Australia/Melbourne:20210313T200000
DTEND;TZID=Australia/Melbourne:20210313T200000
DTSTAMP:20210225T031152
CREATED:20181226T104008Z
LAST-MODIFIED:20181226T104008Z
UID:7478-1615665600-1615665600@pubcrawlmelb.com.au
SUMMARY:CBD PUB CRAWL
DESCRIPTION:Experience 4 of the CBD’s best bars\, lounges\, and nightclubs including a famous rooftop bar/club with amazing city views\, a hidden laneway bar\, and a premiere Melbourne mega-club featuring top DJ’s from around the world -all with free VIP entry.\nEnjoy no entry fees\, no queues\, free SHOTS and exclusive “pub crawl only” drink deals @ every bar!  \nSpace is limited so Book Now.   \n \n
URL:https://pubcrawlmelb.com.au/event/cbd-bar-crawl/2021-03-13/
LOCATION:Melbourne CBD\, Melbourne\, Vic\, 3000
CATEGORIES:CBD Saturdays
ATTACH;FMTTYPE=image/jpeg:https://pubcrawlmelb.com.au/wp-content/uploads/revslider/friday-event-slider/Slider3.jpg
END:VEVENT
BEGIN:VEVENT
DTSTART;TZID=Australia/Melbourne:20210319T200000
DTEND;TZID=Australia/Melbourne:20210319T200000
DTSTAMP:20210225T031152
CREATED:20181226T103103Z
LAST-MODIFIED:20181226T103103Z
UID:7458-1616184000-1616184000@pubcrawlmelb.com.au
SUMMARY:CBD PUB CRAWL
DESCRIPTION:Experience 4 of the CBD’s best bars\, lounges\, and nightclubs including a famous rooftop bar/club with amazing city views\, a hidden laneway bar\, and a premiere Melbourne mega-club featuring top DJ’s from around the world -all with free VIP entry.\nEnjoy no entry fees\, no queues\, free SHOTS and exclusive “pub crawl only” drink deals @ every bar!  \nSpace is limited so Book Now. \n \n
URL:https://pubcrawlmelb.com.au/event/cbd-pub-crawl/2021-03-19/
LOCATION:Melbourne CBD\, Melbourne\, Vic\, 3000
CATEGORIES:CBD Fridays
ATTACH;FMTTYPE=image/jpeg:https://pubcrawlmelb.com.au/wp-content/uploads/revslider/friday-event-slider/Slider4.jpg
END:VEVENT
BEGIN:VEVENT
DTSTART;TZID=Australia/Melbourne:20210320T200000
DTEND;TZID=Australia/Melbourne:20210320T200000
DTSTAMP:20210225T031152
CREATED:20181226T104008Z
LAST-MODIFIED:20181226T104008Z
UID:7479-1616270400-1616270400@pubcrawlmelb.com.au
SUMMARY:CBD PUB CRAWL
DESCRIPTION:Experience 4 of the CBD’s best bars\, lounges\, and nightclubs including a famous rooftop bar/club with amazing city views\, a hidden laneway bar\, and a premiere Melbourne mega-club featuring top DJ’s from around the world -all with free VIP entry.\nEnjoy no entry fees\, no queues\, free SHOTS and exclusive “pub crawl only” drink deals @ every bar!  \nSpace is limited so Book Now.   \n \n
URL:https://pubcrawlmelb.com.au/event/cbd-bar-crawl/2021-03-20/
LOCATION:Melbourne CBD\, Melbourne\, Vic\, 3000
CATEGORIES:CBD Saturdays
ATTACH;FMTTYPE=image/jpeg:https://pubcrawlmelb.com.au/wp-content/uploads/revslider/friday-event-slider/Slider3.jpg
END:VEVENT
BEGIN:VEVENT
DTSTART;TZID=Australia/Melbourne:20210326T200000
DTEND;TZID=Australia/Melbourne:20210326T200000
DTSTAMP:20210225T031152
CREATED:20181226T103103Z
LAST-MODIFIED:20181226T103103Z
UID:7459-1616788800-1616788800@pubcrawlmelb.com.au
SUMMARY:CBD PUB CRAWL
DESCRIPTION:Experience 4 of the CBD’s best bars\, lounges\, and nightclubs including a famous rooftop bar/club with amazing city views\, a hidden laneway bar\, and a premiere Melbourne mega-club featuring top DJ’s from around the world -all with free VIP entry.\nEnjoy no entry fees\, no queues\, free SHOTS and exclusive “pub crawl only” drink deals @ every bar!  \nSpace is limited so Book Now. \n \n
URL:https://pubcrawlmelb.com.au/event/cbd-pub-crawl/2021-03-26/
LOCATION:Melbourne CBD\, Melbourne\, Vic\, 3000
CATEGORIES:CBD Fridays
ATTACH;FMTTYPE=image/jpeg:https://pubcrawlmelb.com.au/wp-content/uploads/revslider/friday-event-slider/Slider4.jpg
END:VEVENT
BEGIN:VEVENT
DTSTART;TZID=Australia/Melbourne:20210327T200000
DTEND;TZID=Australia/Melbourne:20210327T200000
DTSTAMP:20210225T031152
CREATED:20181226T104008Z
LAST-MODIFIED:20181226T104008Z
UID:7480-1616875200-1616875200@pubcrawlmelb.com.au
SUMMARY:CBD PUB CRAWL
DESCRIPTION:Experience 4 of the CBD’s best bars\, lounges\, and nightclubs including a famous rooftop bar/club with amazing city views\, a hidden laneway bar\, and a premiere Melbourne mega-club featuring top DJ’s from around the world -all with free VIP entry.\nEnjoy no entry fees\, no queues\, free SHOTS and exclusive “pub crawl only” drink deals @ every bar!  \nSpace is limited so Book Now.   \n \n
URL:https://pubcrawlmelb.com.au/event/cbd-bar-crawl/2021-03-27/
LOCATION:Melbourne CBD\, Melbourne\, Vic\, 3000
CATEGORIES:CBD Saturdays
ATTACH;FMTTYPE=image/jpeg:https://pubcrawlmelb.com.au/wp-content/uploads/revslider/friday-event-slider/Slider3.jpg
END:VEVENT
BEGIN:VEVENT
DTSTART;TZID=Australia/Melbourne:20210402T200000
DTEND;TZID=Australia/Melbourne:20210402T200000
DTSTAMP:20210225T031152
CREATED:20181226T103103Z
LAST-MODIFIED:20181226T103103Z
UID:7460-1617393600-1617393600@pubcrawlmelb.com.au
SUMMARY:CBD PUB CRAWL
DESCRIPTION:Experience 4 of the CBD’s best bars\, lounges\, and nightclubs including a famous rooftop bar/club with amazing city views\, a hidden laneway bar\, and a premiere Melbourne mega-club featuring top DJ’s from around the world -all with free VIP entry.\nEnjoy no entry fees\, no queues\, free SHOTS and exclusive “pub crawl only” drink deals @ every bar!  \nSpace is limited so Book Now. \n \n
URL:https://pubcrawlmelb.com.au/event/cbd-pub-crawl/2021-04-02/
LOCATION:Melbourne CBD\, Melbourne\, Vic\, 3000
CATEGORIES:CBD Fridays
ATTACH;FMTTYPE=image/jpeg:https://pubcrawlmelb.com.au/wp-content/uploads/revslider/friday-event-slider/Slider4.jpg
END:VEVENT
BEGIN:VEVENT
DTSTART;TZID=Australia/Melbourne:20210403T200000
DTEND;TZID=Australia/Melbourne:20210403T200000
DTSTAMP:20210225T031152
CREATED:20181226T104008Z
LAST-MODIFIED:20181226T104008Z
UID:7481-1617480000-1617480000@pubcrawlmelb.com.au
SUMMARY:CBD PUB CRAWL
DESCRIPTION:Experience 4 of the CBD’s best bars\, lounges\, and nightclubs including a famous rooftop bar/club with amazing city views\, a hidden laneway bar\, and a premiere Melbourne mega-club featuring top DJ’s from around the world -all with free VIP entry.\nEnjoy no entry fees\, no queues\, free SHOTS and exclusive “pub crawl only” drink deals @ every bar!  \nSpace is limited so Book Now.   \n \n
URL:https://pubcrawlmelb.com.au/event/cbd-bar-crawl/2021-04-03/
LOCATION:Melbourne CBD\, Melbourne\, Vic\, 3000
CATEGORIES:CBD Saturdays
ATTACH;FMTTYPE=image/jpeg:https://pubcrawlmelb.com.au/wp-content/uploads/revslider/friday-event-slider/Slider3.jpg
END:VEVENT
BEGIN:VEVENT
DTSTART;TZID=Australia/Melbourne:20210409T200000
DTEND;TZID=Australia/Melbourne:20210409T200000
DTSTAMP:20210225T031152
CREATED:20181226T103103Z
LAST-MODIFIED:20181226T103103Z
UID:7461-1617998400-1617998400@pubcrawlmelb.com.au
SUMMARY:CBD PUB CRAWL
DESCRIPTION:Experience 4 of the CBD’s best bars\, lounges\, and nightclubs including a famous rooftop bar/club with amazing city views\, a hidden laneway bar\, and a premiere Melbourne mega-club featuring top DJ’s from around the world -all with free VIP entry.\nEnjoy no entry fees\, no queues\, free SHOTS and exclusive “pub crawl only” drink deals @ every bar!  \nSpace is limited so Book Now. \n \n
URL:https://pubcrawlmelb.com.au/event/cbd-pub-crawl/2021-04-09/
LOCATION:Melbourne CBD\, Melbourne\, Vic\, 3000
CATEGORIES:CBD Fridays
ATTACH;FMTTYPE=image/jpeg:https://pubcrawlmelb.com.au/wp-content/uploads/revslider/friday-event-slider/Slider4.jpg
END:VEVENT
BEGIN:VEVENT
DTSTART;TZID=Australia/Melbourne:20210410T200000
DTEND;TZID=Australia/Melbourne:20210410T200000
DTSTAMP:20210225T031152
CREATED:20181226T104008Z
LAST-MODIFIED:20181226T104008Z
UID:7482-1618084800-1618084800@pubcrawlmelb.com.au
SUMMARY:CBD PUB CRAWL
DESCRIPTION:Experience 4 of the CBD’s best bars\, lounges\, and nightclubs including a famous rooftop bar/club with amazing city views\, a hidden laneway bar\, and a premiere Melbourne mega-club featuring top DJ’s from around the world -all with free VIP entry.\nEnjoy no entry fees\, no queues\, free SHOTS and exclusive “pub crawl only” drink deals @ every bar!  \nSpace is limited so Book Now.   \n \n
URL:https://pubcrawlmelb.com.au/event/cbd-bar-crawl/2021-04-10/
LOCATION:Melbourne CBD\, Melbourne\, Vic\, 3000
CATEGORIES:CBD Saturdays
ATTACH;FMTTYPE=image/jpeg:https://pubcrawlmelb.com.au/wp-content/uploads/revslider/friday-event-slider/Slider3.jpg
END:VEVENT
BEGIN:VEVENT
DTSTART;TZID=Australia/Melbourne:20210416T200000
DTEND;TZID=Australia/Melbourne:20210416T200000
DTSTAMP:20210225T031152
CREATED:20181226T103103Z
LAST-MODIFIED:20181226T103103Z
UID:7462-1618603200-1618603200@pubcrawlmelb.com.au
SUMMARY:CBD PUB CRAWL
DESCRIPTION:Experience 4 of the CBD’s best bars\, lounges\, and nightclubs including a famous rooftop bar/club with amazing city views\, a hidden laneway bar\, and a premiere Melbourne mega-club featuring top DJ’s from around the world -all with free VIP entry.\nEnjoy no entry fees\, no queues\, free SHOTS and exclusive “pub crawl only” drink deals @ every bar!  \nSpace is limited so Book Now. \n \n
URL:https://pubcrawlmelb.com.au/event/cbd-pub-crawl/2021-04-16/
LOCATION:Melbourne CBD\, Melbourne\, Vic\, 3000
CATEGORIES:CBD Fridays
ATTACH;FMTTYPE=image/jpeg:https://pubcrawlmelb.com.au/wp-content/uploads/revslider/friday-event-slider/Slider4.jpg
END:VEVENT
BEGIN:VEVENT
DTSTART;TZID=Australia/Melbourne:20210417T200000
DTEND;TZID=Australia/Melbourne:20210417T200000
DTSTAMP:20210225T031152
CREATED:20181226T104008Z
LAST-MODIFIED:20181226T104008Z
UID:7483-1618689600-1618689600@pubcrawlmelb.com.au
SUMMARY:CBD PUB CRAWL
DESCRIPTION:Experience 4 of the CBD’s best bars\, lounges\, and nightclubs including a famous rooftop bar/club with amazing city views\, a hidden laneway bar\, and a premiere Melbourne mega-club featuring top DJ’s from around the world -all with free VIP entry.\nEnjoy no entry fees\, no queues\, free SHOTS and exclusive “pub crawl only” drink deals @ every bar!  \nSpace is limited so Book Now.   \n \n
URL:https://pubcrawlmelb.com.au/event/cbd-bar-crawl/2021-04-17/
LOCATION:Melbourne CBD\, Melbourne\, Vic\, 3000
CATEGORIES:CBD Saturdays
ATTACH;FMTTYPE=image/jpeg:https://pubcrawlmelb.com.au/wp-content/uploads/revslider/friday-event-slider/Slider3.jpg
END:VEVENT
BEGIN:VEVENT
DTSTART;TZID=Australia/Melbourne:20210423T200000
DTEND;TZID=Australia/Melbourne:20210423T200000
DTSTAMP:20210225T031152
CREATED:20181226T103103Z
LAST-MODIFIED:20181226T103103Z
UID:7463-1619208000-1619208000@pubcrawlmelb.com.au
SUMMARY:CBD PUB CRAWL
DESCRIPTION:Experience 4 of the CBD’s best bars\, lounges\, and nightclubs including a famous rooftop bar/club with amazing city views\, a hidden laneway bar\, and a premiere Melbourne mega-club featuring top DJ’s from around the world -all with free VIP entry.\nEnjoy no entry fees\, no queues\, free SHOTS and exclusive “pub crawl only” drink deals @ every bar!  \nSpace is limited so Book Now. \n \n
URL:https://pubcrawlmelb.com.au/event/cbd-pub-crawl/2021-04-23/
LOCATION:Melbourne CBD\, Melbourne\, Vic\, 3000
CATEGORIES:CBD Fridays
ATTACH;FMTTYPE=image/jpeg:https://pubcrawlmelb.com.au/wp-content/uploads/revslider/friday-event-slider/Slider4.jpg
END:VEVENT
BEGIN:VEVENT
DTSTART;TZID=Australia/Melbourne:20210424T200000
DTEND;TZID=Australia/Melbourne:20210424T200000
DTSTAMP:20210225T031152
CREATED:20181226T104008Z
LAST-MODIFIED:20181226T104008Z
UID:7484-1619294400-1619294400@pubcrawlmelb.com.au
SUMMARY:CBD PUB CRAWL
DESCRIPTION:Experience 4 of the CBD’s best bars\, lounges\, and nightclubs including a famous rooftop bar/club with amazing city views\, a hidden laneway bar\, and a premiere Melbourne mega-club featuring top DJ’s from around the world -all with free VIP entry.\nEnjoy no entry fees\, no queues\, free SHOTS and exclusive “pub crawl only” drink deals @ every bar!  \nSpace is limited so Book Now.   \n \n
URL:https://pubcrawlmelb.com.au/event/cbd-bar-crawl/2021-04-24/
LOCATION:Melbourne CBD\, Melbourne\, Vic\, 3000
CATEGORIES:CBD Saturdays
ATTACH;FMTTYPE=image/jpeg:https://pubcrawlmelb.com.au/wp-content/uploads/revslider/friday-event-slider/Slider3.jpg
END:VEVENT
BEGIN:VEVENT
DTSTART;TZID=Australia/Melbourne:20210430T200000
DTEND;TZID=Australia/Melbourne:20210430T200000
DTSTAMP:20210225T031152
CREATED:20181226T103103Z
LAST-MODIFIED:20181226T103103Z
UID:7464-1619812800-1619812800@pubcrawlmelb.com.au
SUMMARY:CBD PUB CRAWL
DESCRIPTION:Experience 4 of the CBD’s best bars\, lounges\, and nightclubs including a famous rooftop bar/club with amazing city views\, a hidden laneway bar\, and a premiere Melbourne mega-club featuring top DJ’s from around the world -all with free VIP entry.\nEnjoy no entry fees\, no queues\, free SHOTS and exclusive “pub crawl only” drink deals @ every bar!  \nSpace is limited so Book Now. \n \n
URL:https://pubcrawlmelb.com.au/event/cbd-pub-crawl/2021-04-30/
LOCATION:Melbourne CBD\, Melbourne\, Vic\, 3000
CATEGORIES:CBD Fridays
ATTACH;FMTTYPE=image/jpeg:https://pubcrawlmelb.com.au/wp-content/uploads/revslider/friday-event-slider/Slider4.jpg
END:VEVENT
BEGIN:VEVENT
DTSTART;TZID=Australia/Melbourne:20210501T200000
DTEND;TZID=Australia/Melbourne:20210501T200000
DTSTAMP:20210225T031152
CREATED:20181226T104008Z
LAST-MODIFIED:20181226T104008Z
UID:7485-1619899200-1619899200@pubcrawlmelb.com.au
SUMMARY:CBD PUB CRAWL
DESCRIPTION:Experience 4 of the CBD’s best bars\, lounges\, and nightclubs including a famous rooftop bar/club with amazing city views\, a hidden laneway bar\, and a premiere Melbourne mega-club featuring top DJ’s from around the world -all with free VIP entry.\nEnjoy no entry fees\, no queues\, free SHOTS and exclusive “pub crawl only” drink deals @ every bar!  \nSpace is limited so Book Now.   \n \n
URL:https://pubcrawlmelb.com.au/event/cbd-bar-crawl/2021-05-01/
LOCATION:Melbourne CBD\, Melbourne\, Vic\, 3000
CATEGORIES:CBD Saturdays
ATTACH;FMTTYPE=image/jpeg:https://pubcrawlmelb.com.au/wp-content/uploads/revslider/friday-event-slider/Slider3.jpg
END:VEVENT
BEGIN:VEVENT
DTSTART;TZID=Australia/Melbourne:20210507T200000
DTEND;TZID=Australia/Melbourne:20210507T200000
DTSTAMP:20210225T031152
CREATED:20181226T103103Z
LAST-MODIFIED:20181226T103103Z
UID:7465-1620417600-1620417600@pubcrawlmelb.com.au
SUMMARY:CBD PUB CRAWL
DESCRIPTION:Experience 4 of the CBD’s best bars\, lounges\, and nightclubs including a famous rooftop bar/club with amazing city views\, a hidden laneway bar\, and a premiere Melbourne mega-club featuring top DJ’s from around the world -all with free VIP entry.\nEnjoy no entry fees\, no queues\, free SHOTS and exclusive “pub crawl only” drink deals @ every bar!  \nSpace is limited so Book Now. \n \n
URL:https://pubcrawlmelb.com.au/event/cbd-pub-crawl/2021-05-07/
LOCATION:Melbourne CBD\, Melbourne\, Vic\, 3000
CATEGORIES:CBD Fridays
ATTACH;FMTTYPE=image/jpeg:https://pubcrawlmelb.com.au/wp-content/uploads/revslider/friday-event-slider/Slider4.jpg
END:VEVENT
BEGIN:VEVENT
DTSTART;TZID=Australia/Melbourne:20210508T200000
DTEND;TZID=Australia/Melbourne:20210508T200000
DTSTAMP:20210225T031152
CREATED:20181226T104008Z
LAST-MODIFIED:20181226T104008Z
UID:7486-1620504000-1620504000@pubcrawlmelb.com.au
SUMMARY:CBD PUB CRAWL
DESCRIPTION:Experience 4 of the CBD’s best bars\, lounges\, and nightclubs including a famous rooftop bar/club with amazing city views\, a hidden laneway bar\, and a premiere Melbourne mega-club featuring top DJ’s from around the world -all with free VIP entry.\nEnjoy no entry fees\, no queues\, free SHOTS and exclusive “pub crawl only” drink deals @ every bar!  \nSpace is limited so Book Now.   \n \n
URL:https://pubcrawlmelb.com.au/event/cbd-bar-crawl/2021-05-08/
LOCATION:Melbourne CBD\, Melbourne\, Vic\, 3000
CATEGORIES:CBD Saturdays
ATTACH;FMTTYPE=image/jpeg:https://pubcrawlmelb.com.au/wp-content/uploads/revslider/friday-event-slider/Slider3.jpg
END:VEVENT
BEGIN:VEVENT
DTSTART;TZID=Australia/Melbourne:20210514T200000
DTEND;TZID=Australia/Melbourne:20210514T200000
DTSTAMP:20210225T031152
CREATED:20181226T103103Z
LAST-MODIFIED:20181226T103103Z
UID:7466-1621022400-1621022400@pubcrawlmelb.com.au
SUMMARY:CBD PUB CRAWL
DESCRIPTION:Experience 4 of the CBD’s best bars\, lounges\, and nightclubs including a famous rooftop bar/club with amazing city views\, a hidden laneway bar\, and a premiere Melbourne mega-club featuring top DJ’s from around the world -all with free VIP entry.\nEnjoy no entry fees\, no queues\, free SHOTS and exclusive “pub crawl only” drink deals @ every bar!  \nSpace is limited so Book Now. \n \n
URL:https://pubcrawlmelb.com.au/event/cbd-pub-crawl/2021-05-14/
LOCATION:Melbourne CBD\, Melbourne\, Vic\, 3000
CATEGORIES:CBD Fridays
ATTACH;FMTTYPE=image/jpeg:https://pubcrawlmelb.com.au/wp-content/uploads/revslider/friday-event-slider/Slider4.jpg
END:VEVENT
BEGIN:VEVENT
DTSTART;TZID=Australia/Melbourne:20210515T200000
DTEND;TZID=Australia/Melbourne:20210515T200000
DTSTAMP:20210225T031152
CREATED:20181226T104008Z
LAST-MODIFIED:20181226T104008Z
UID:7487-1621108800-1621108800@pubcrawlmelb.com.au
SUMMARY:CBD PUB CRAWL
DESCRIPTION:Experience 4 of the CBD’s best bars\, lounges\, and nightclubs including a famous rooftop bar/club with amazing city views\, a hidden laneway bar\, and a premiere Melbourne mega-club featuring top DJ’s from around the world -all with free VIP entry.\nEnjoy no entry fees\, no queues\, free SHOTS and exclusive “pub crawl only” drink deals @ every bar!  \nSpace is limited so Book Now.   \n \n
URL:https://pubcrawlmelb.com.au/event/cbd-bar-crawl/2021-05-15/
LOCATION:Melbourne CBD\, Melbourne\, Vic\, 3000
CATEGORIES:CBD Saturdays
ATTACH;FMTTYPE=image/jpeg:https://pubcrawlmelb.com.au/wp-content/uploads/revslider/friday-event-slider/Slider3.jpg
END:VEVENT
BEGIN:VEVENT
DTSTART;TZID=Australia/Melbourne:20210521T200000
DTEND;TZID=Australia/Melbourne:20210521T200000
DTSTAMP:20210225T031152
CREATED:20181226T103103Z
LAST-MODIFIED:20181226T103103Z
UID:7467-1621627200-1621627200@pubcrawlmelb.com.au
SUMMARY:CBD PUB CRAWL
DESCRIPTION:Experience 4 of the CBD’s best bars\, lounges\, and nightclubs including a famous rooftop bar/club with amazing city views\, a hidden laneway bar\, and a premiere Melbourne mega-club featuring top DJ’s from around the world -all with free VIP entry.\nEnjoy no entry fees\, no queues\, free SHOTS and exclusive “pub crawl only” drink deals @ every bar!  \nSpace is limited so Book Now. \n \n
URL:https://pubcrawlmelb.com.au/event/cbd-pub-crawl/2021-05-21/
LOCATION:Melbourne CBD\, Melbourne\, Vic\, 3000
CATEGORIES:CBD Fridays
ATTACH;FMTTYPE=image/jpeg:https://pubcrawlmelb.com.au/wp-content/uploads/revslider/friday-event-slider/Slider4.jpg
END:VEVENT
BEGIN:VEVENT
DTSTART;TZID=Australia/Melbourne:20210522T200000
DTEND;TZID=Australia/Melbourne:20210522T200000
DTSTAMP:20210225T031152
CREATED:20181226T104008Z
LAST-MODIFIED:20181226T104008Z
UID:7488-1621713600-1621713600@pubcrawlmelb.com.au
SUMMARY:CBD PUB CRAWL
DESCRIPTION:Experience 4 of the CBD’s best bars\, lounges\, and nightclubs including a famous rooftop bar/club with amazing city views\, a hidden laneway bar\, and a premiere Melbourne mega-club featuring top DJ’s from around the world -all with free VIP entry.\nEnjoy no entry fees\, no queues\, free SHOTS and exclusive “pub crawl only” drink deals @ every bar!  \nSpace is limited so Book Now.   \n \n
URL:https://pubcrawlmelb.com.au/event/cbd-bar-crawl/2021-05-22/
LOCATION:Melbourne CBD\, Melbourne\, Vic\, 3000
CATEGORIES:CBD Saturdays
ATTACH;FMTTYPE=image/jpeg:https://pubcrawlmelb.com.au/wp-content/uploads/revslider/friday-event-slider/Slider3.jpg
END:VEVENT
BEGIN:VEVENT
DTSTART;TZID=Australia/Melbourne:20210528T200000
DTEND;TZID=Australia/Melbourne:20210528T200000
DTSTAMP:20210225T031152
CREATED:20181226T103103Z
LAST-MODIFIED:20181226T103103Z
UID:7468-1622232000-1622232000@pubcrawlmelb.com.au
SUMMARY:CBD PUB CRAWL
DESCRIPTION:Experience 4 of the CBD’s best bars\, lounges\, and nightclubs including a famous rooftop bar/club with amazing city views\, a hidden laneway bar\, and a premiere Melbourne mega-club featuring top DJ’s from around the world -all with free VIP entry.\nEnjoy no entry fees\, no queues\, free SHOTS and exclusive “pub crawl only” drink deals @ every bar!  \nSpace is limited so Book Now. \n \n
URL:https://pubcrawlmelb.com.au/event/cbd-pub-crawl/2021-05-28/
LOCATION:Melbourne CBD\, Melbourne\, Vic\, 3000
CATEGORIES:CBD Fridays
ATTACH;FMTTYPE=image/jpeg:https://pubcrawlmelb.com.au/wp-content/uploads/revslider/friday-event-slider/Slider4.jpg
END:VEVENT
BEGIN:VEVENT
DTSTART;TZID=Australia/Melbourne:20210529T200000
DTEND;TZID=Australia/Melbourne:20210529T200000
DTSTAMP:20210225T031152
CREATED:20181226T104008Z
LAST-MODIFIED:20181226T104008Z
UID:7489-1622318400-1622318400@pubcrawlmelb.com.au
SUMMARY:CBD PUB CRAWL
DESCRIPTION:Experience 4 of the CBD’s best bars\, lounges\, and nightclubs including a famous rooftop bar/club with amazing city views\, a hidden laneway bar\, and a premiere Melbourne mega-club featuring top DJ’s from around the world -all with free VIP entry.\nEnjoy no entry fees\, no queues\, free SHOTS and exclusive “pub crawl only” drink deals @ every bar!  \nSpace is limited so Book Now.   \n \n
URL:https://pubcrawlmelb.com.au/event/cbd-bar-crawl/2021-05-29/
LOCATION:Melbourne CBD\, Melbourne\, Vic\, 3000
CATEGORIES:CBD Saturdays
ATTACH;FMTTYPE=image/jpeg:https://pubcrawlmelb.com.au/wp-content/uploads/revslider/friday-event-slider/Slider3.jpg
END:VEVENT
BEGIN:VEVENT
DTSTART;TZID=Australia/Melbourne:20210604T200000
DTEND;TZID=Australia/Melbourne:20210604T200000
DTSTAMP:20210225T031152
CREATED:20181226T103103Z
LAST-MODIFIED:20181226T103103Z
UID:7469-1622836800-1622836800@pubcrawlmelb.com.au
SUMMARY:CBD PUB CRAWL
DESCRIPTION:Experience 4 of the CBD’s best bars\, lounges\, and nightclubs including a famous rooftop bar/club with amazing city views\, a hidden laneway bar\, and a premiere Melbourne mega-club featuring top DJ’s from around the world -all with free VIP entry.\nEnjoy no entry fees\, no queues\, free SHOTS and exclusive “pub crawl only” drink deals @ every bar!  \nSpace is limited so Book Now. \n \n
URL:https://pubcrawlmelb.com.au/event/cbd-pub-crawl/2021-06-04/
LOCATION:Melbourne CBD\, Melbourne\, Vic\, 3000
CATEGORIES:CBD Fridays
ATTACH;FMTTYPE=image/jpeg:https://pubcrawlmelb.com.au/wp-content/uploads/revslider/friday-event-slider/Slider4.jpg
END:VEVENT
BEGIN:VEVENT
DTSTART;TZID=Australia/Melbourne:20210605T200000
DTEND;TZID=Australia/Melbourne:20210605T200000
DTSTAMP:20210225T031152
CREATED:20181226T104008Z
LAST-MODIFIED:20181226T104008Z
UID:7490-1622923200-1622923200@pubcrawlmelb.com.au
SUMMARY:CBD PUB CRAWL
DESCRIPTION:Experience 4 of the CBD’s best bars\, lounges\, and nightclubs including a famous rooftop bar/club with amazing city views\, a hidden laneway bar\, and a premiere Melbourne mega-club featuring top DJ’s from around the world -all with free VIP entry.\nEnjoy no entry fees\, no queues\, free SHOTS and exclusive “pub crawl only” drink deals @ every bar!  \nSpace is limited so Book Now.   \n \n
URL:https://pubcrawlmelb.com.au/event/cbd-bar-crawl/2021-06-05/
LOCATION:Melbourne CBD\, Melbourne\, Vic\, 3000
CATEGORIES:CBD Saturdays
ATTACH;FMTTYPE=image/jpeg:https://pubcrawlmelb.com.au/wp-content/uploads/revslider/friday-event-slider/Slider3.jpg
END:VEVENT
END:VCALENDAR